BEGIN:VCALENDAR
VERSION:2.0
PRODID:-//ASV Heinsheim//NONSGML kigkonsult.se iCalcreator 2.16.12//
METHOD:PUBLISH
X-MS-OLK-FORCEINSPECTOROPEN:TRUE
BEGIN:VEVENT
UID:20260420T171349CEST-2897Uhir66@ASV Heinsheim
DTSTAMP:20260420T151349Z
DESCRIPTION:
DTSTART:20261121T190000
DTEND:20261121T223000
ORGANIZER:MAILTO:ASV Heinsheim <webmaster@asv-heinsheim.de>
SUMMARY:Kameradschaftsabend
END:VEVENT
END:VCALENDAR
