BEGIN:VCALENDAR
VERSION:2.0
PRODID:-//ASV Heinsheim//NONSGML kigkonsult.se iCalcreator 2.16.12//
METHOD:PUBLISH
X-MS-OLK-FORCEINSPECTOROPEN:TRUE
BEGIN:VEVENT
UID:20260420T170730CEST-2208HDZ9ho@ASV Heinsheim
DTSTAMP:20260420T150730Z
DESCRIPTION:
DTSTART:20260927T070000
DTEND:20260927T133000
LOCATION:Römersee
ORGANIZER:MAILTO:ASV Heinsheim <webmaster@asv-heinsheim.de>
SUMMARY:Gemeinsames Fischen am Römersee
END:VEVENT
END:VCALENDAR
