BEGIN:VCALENDAR
VERSION:2.0
PRODID:-//ASV Heinsheim//NONSGML kigkonsult.se iCalcreator 2.16.12//
METHOD:PUBLISH
X-MS-OLK-FORCEINSPECTOROPEN:TRUE
BEGIN:VEVENT
UID:20260420T124231CEST-7104F8wvZu@ASV Heinsheim
DTSTAMP:20260420T104231Z
DESCRIPTION:
DTSTART:20260710T130000
DTEND:20260712T133000
LOCATION:Vereinshütte
ORGANIZER:MAILTO:ASV Heinsheim <webmaster@asv-heinsheim.de>
SUMMARY:Jugendzeltlager Anmeldung erwünscht
END:VEVENT
END:VCALENDAR
