BEGIN:VCALENDAR
VERSION:2.0
PRODID:-//ASV Heinsheim//NONSGML kigkonsult.se iCalcreator 2.16.12//
METHOD:PUBLISH
X-MS-OLK-FORCEINSPECTOROPEN:TRUE
BEGIN:VEVENT
UID:20260420T122415CEST-5748u4aBD9@ASV Heinsheim
DTSTAMP:20260420T102415Z
DESCRIPTION:
DTSTART:20260620T180000
DTEND:20260620T233000
LOCATION:Vereinshütte
ORGANIZER:MAILTO:ASV Heinsheim <webmaster@asv-heinsheim.de>
SUMMARY:Gemeinsames Abendfischen am Neckar
END:VEVENT
END:VCALENDAR
