BEGIN:VCALENDAR
VERSION:2.0
PRODID:-//ASV Heinsheim//NONSGML kigkonsult.se iCalcreator 2.16.12//
METHOD:PUBLISH
X-MS-OLK-FORCEINSPECTOROPEN:TRUE
BEGIN:VEVENT
UID:20260420T180509CEST-0799s5NsMs@ASV Heinsheim
DTSTAMP:20260420T160509Z
DESCRIPTION:
DTSTART:20260403T110000
DTEND:20260403T170000
LOCATION:Josef Müller Halle
ORGANIZER:MAILTO:ASV Heinsheim <webmaster@asv-heinsheim.de>
SUMMARY:Karfreitag Fischessen
END:VEVENT
END:VCALENDAR
