BEGIN:VCALENDAR
VERSION:2.0
PRODID:-//ASV Heinsheim//NONSGML kigkonsult.se iCalcreator 2.16.12//
METHOD:PUBLISH
X-MS-OLK-FORCEINSPECTOROPEN:TRUE
BEGIN:VEVENT
UID:20260421T033916CEST-6409GNAmzx@ASV Heinsheim
DTSTAMP:20260421T013916Z
DESCRIPTION: vom 16.03.26 - 22.03.26 ist der See gesperrt
DTSTART:20260322T070000
DTEND:20260322T133000
LOCATION:Treffpunkt Römersee
ORGANIZER:MAILTO:ASV Heinsheim <webmaster@asv-heinsheim.de>
SUMMARY:Gemeinsames Fischen am Römersee
END:VEVENT
END:VCALENDAR
