BEGIN:VCALENDAR
VERSION:2.0
PRODID:-//ASV Heinsheim//NONSGML kigkonsult.se iCalcreator 2.16.12//
METHOD:PUBLISH
X-MS-OLK-FORCEINSPECTOROPEN:TRUE
BEGIN:VEVENT
UID:20260421T053658CEST-4894cRe3jO@ASV Heinsheim
DTSTAMP:20260421T033658Z
DESCRIPTION:
DTSTART:20260221T090000
DTEND:20260221T133000
LOCATION:Treffpunkt Römersee
ORGANIZER:MAILTO:ASV Heinsheim <webmaster@asv-heinsheim.de>
SUMMARY:Uferputzen alle Seen
END:VEVENT
END:VCALENDAR
