BEGIN:VCALENDAR
VERSION:2.0
PRODID:-//ASV Heinsheim//NONSGML kigkonsult.se iCalcreator 2.16.12//
METHOD:PUBLISH
X-MS-OLK-FORCEINSPECTOROPEN:TRUE
BEGIN:VEVENT
UID:20260421T095641CEST-5614smWfWx@ASV Heinsheim
DTSTAMP:20260421T075641Z
DESCRIPTION:
DTSTART:20260124T140000
DTEND:20260124T150000
LOCATION:Vereinshütte
ORGANIZER:MAILTO:ASV Heinsheim <webmaster@asv-heinsheim.de>
SUMMARY:Nachzüglertermin
END:VEVENT
END:VCALENDAR
