BEGIN:VCALENDAR
VERSION:2.0
PRODID:-//ASV Heinsheim//NONSGML kigkonsult.se iCalcreator 2.16.12//
METHOD:PUBLISH
X-MS-OLK-FORCEINSPECTOROPEN:TRUE
BEGIN:VEVENT
UID:20260421T090616CEST-3819u1V6MG@ASV Heinsheim
DTSTAMP:20260421T070616Z
DESCRIPTION:Da unser Sportheim schliesst gehen wir diesesmal in die Räumlic
 hkeiten des HCV Heinsheim
DTSTART:20260117T160000
DTEND:20260117T180000
LOCATION:Vereinsheim des HCV
ORGANIZER:MAILTO:ASV Heinsheim <webmaster@asv-heinsheim.de>
SUMMARY:Jahreshauptversammlung
END:VEVENT
END:VCALENDAR
