BEGIN:VCALENDAR
VERSION:2.0
PRODID:-//ASV Heinsheim//NONSGML kigkonsult.se iCalcreator 2.16.12//
METHOD:PUBLISH
X-MS-OLK-FORCEINSPECTOROPEN:TRUE
BEGIN:VEVENT
UID:20260421T154253CEST-1648bOZmzW@ASV Heinsheim
DTSTAMP:20260421T134253Z
DESCRIPTION: In dieser Zeit sind die Seen gesperrt
DTSTART:20251213T090000
DTEND:20251213T133000
LOCATION:Römersee
ORGANIZER:MAILTO:ASV Heinsheim <webmaster@asv-heinsheim.de>
SUMMARY:Aufräumarbeiten an allen Seen
END:VEVENT
END:VCALENDAR
