BEGIN:VCALENDAR
VERSION:2.0
PRODID:-//ASV Heinsheim//NONSGML kigkonsult.se iCalcreator 2.16.12//
METHOD:PUBLISH
X-MS-OLK-FORCEINSPECTOROPEN:TRUE
BEGIN:VEVENT
UID:20260421T203044CEST-4098GZUnAs@ASV Heinsheim
DTSTAMP:20260421T183044Z
DESCRIPTION: 
DTSTART:20251122T190000
DTEND:20251122T233000
LOCATION:wird noch bekannt gegeben
ORGANIZER:MAILTO:ASV Heinsheim <webmaster@asv-heinsheim.de>
SUMMARY:Kameradschaftsabend
END:VEVENT
END:VCALENDAR
