BEGIN:VCALENDAR
VERSION:2.0
PRODID:-//ASV Heinsheim//NONSGML kigkonsult.se iCalcreator 2.16.12//
METHOD:PUBLISH
X-MS-OLK-FORCEINSPECTOROPEN:TRUE
BEGIN:VEVENT
UID:20260422T020025CEST-2440OFDucs@ASV Heinsheim
DTSTAMP:20260422T000025Z
DESCRIPTION: 
DTSTART:20251012T070000
DTEND:20251012T133000
LOCATION:Fischerhütte
ORGANIZER:MAILTO:ASV Heinsheim <webmaster@asv-heinsheim.de>
SUMMARY:gemeinsames Fischen am Neckar
END:VEVENT
END:VCALENDAR
