BEGIN:VCALENDAR
VERSION:2.0
PRODID:-//ASV Heinsheim//NONSGML kigkonsult.se iCalcreator 2.16.12//
METHOD:PUBLISH
X-MS-OLK-FORCEINSPECTOROPEN:TRUE
BEGIN:VEVENT
UID:20260422T075047CEST-7992VBIksJ@ASV Heinsheim
DTSTAMP:20260422T055047Z
DESCRIPTION: Der Römersee und der Mühltalsee sind vom 15.0925 - 21.09.25 ge
 sperrt. Sperrzeiten sind zu beachten!
DTSTART:20250921T070000
DTEND:20250921T133000
LOCATION:Römersee
ORGANIZER:MAILTO:ASV Heinsheim <webmaster@asv-heinsheim.de>
SUMMARY:gemeinsames Fischen am Römersee
END:VEVENT
END:VCALENDAR
