BEGIN:VCALENDAR
VERSION:2.0
PRODID:-//ASV Heinsheim//NONSGML kigkonsult.se iCalcreator 2.16.12//
METHOD:PUBLISH
X-MS-OLK-FORCEINSPECTOROPEN:TRUE
BEGIN:VEVENT
UID:20260422T164337CEST-2122Io1zcE@ASV Heinsheim
DTSTAMP:20260422T144337Z
DESCRIPTION: 
DTSTART:20250726T000000
DTEND:20250727T235900
LOCATION:Fischerhütte
ORGANIZER:MAILTO:ASV Heinsheim <webmaster@asv-heinsheim.de>
SUMMARY:Neckarsfest
END:VEVENT
END:VCALENDAR
