BEGIN:VCALENDAR
VERSION:2.0
PRODID:-//ASV Heinsheim//NONSGML kigkonsult.se iCalcreator 2.16.12//
METHOD:PUBLISH
X-MS-OLK-FORCEINSPECTOROPEN:TRUE
BEGIN:VEVENT
UID:20260422T161150CEST-5219HnKmdS@ASV Heinsheim
DTSTAMP:20260422T141150Z
DESCRIPTION: 
DTSTART:20250711T130000
DTEND:20250713T133000
LOCATION:Römersee
ORGANIZER:MAILTO:ASV Heinsheim <webmaster@asv-heinsheim.de>
SUMMARY:Jugendzeltlager
END:VEVENT
END:VCALENDAR
