BEGIN:VCALENDAR
VERSION:2.0
PRODID:-//ASV Heinsheim//NONSGML kigkonsult.se iCalcreator 2.16.12//
METHOD:PUBLISH
X-MS-OLK-FORCEINSPECTOROPEN:TRUE
BEGIN:VEVENT
UID:20260423T064147CEST-3483zOBvM1@ASV Heinsheim
DTSTAMP:20260423T044147Z
DESCRIPTION: 
DTSTART:20250418T093000
DTEND:20250418T180000
LOCATION:Sportheim in Heinsheim
ORGANIZER:MAILTO:ASV Heinsheim <webmaster@asv-heinsheim.de>
SUMMARY:Karfreitagsessen
END:VEVENT
END:VCALENDAR
