BEGIN:VCALENDAR
VERSION:2.0
PRODID:-//ASV Heinsheim//NONSGML kigkonsult.se iCalcreator 2.16.12//
METHOD:PUBLISH
X-MS-OLK-FORCEINSPECTOROPEN:TRUE
BEGIN:VEVENT
UID:20260423T072120CEST-7407vOnOAW@ASV Heinsheim
DTSTAMP:20260423T052120Z
DESCRIPTION: 
DTSTART:20250406T070000
DTEND:20250406T133000
LOCATION:Fischerhütte
ORGANIZER:MAILTO:ASV Heinsheim <webmaster@asv-heinsheim.de>
SUMMARY:gemeinsames Fischen am Neckar
END:VEVENT
END:VCALENDAR
