BEGIN:VCALENDAR
VERSION:2.0
PRODID:-//ASV Heinsheim//NONSGML kigkonsult.se iCalcreator 2.16.12//
METHOD:PUBLISH
X-MS-OLK-FORCEINSPECTOROPEN:TRUE
BEGIN:VEVENT
UID:20260423T110320CEST-2926DsluIl@ASV Heinsheim
DTSTAMP:20260423T090320Z
DESCRIPTION:  Der See ist vom 24.03.25-30.03.25 gesperrt. Sperrzeiten sind 
 zu beachten
DTSTART:20250330T070000
DTEND:20250330T133000
LOCATION:Römersee
ORGANIZER:MAILTO:ASV Heinsheim <webmaster@asv-heinsheim.de>
SUMMARY:gemeinsames Fischen am Römersee
END:VEVENT
END:VCALENDAR
