BEGIN:VCALENDAR
VERSION:2.0
PRODID:-//ASV Heinsheim//NONSGML kigkonsult.se iCalcreator 2.16.12//
METHOD:PUBLISH
X-MS-OLK-FORCEINSPECTOROPEN:TRUE
BEGIN:VEVENT
UID:20260423T153142CEST-10373hEavR@ASV Heinsheim
DTSTAMP:20260423T133142Z
DESCRIPTION: !!! Die Seen sind in dieser Zeit gesperrt !!!!
DTSTART:20250222T090000
DTEND:20250222T133000
LOCATION:Römersee
ORGANIZER:MAILTO:ASV Heinsheim <webmaster@asv-heinsheim.de>
SUMMARY:Uferputzen an allen Seen
END:VEVENT
END:VCALENDAR
