BEGIN:VCALENDAR
VERSION:2.0
PRODID:-//ASV Heinsheim//NONSGML kigkonsult.se iCalcreator 2.16.12//
METHOD:PUBLISH
X-MS-OLK-FORCEINSPECTOROPEN:TRUE
BEGIN:VEVENT
UID:20260423T193458CEST-0191FV1VvT@ASV Heinsheim
DTSTAMP:20260423T173458Z
DESCRIPTION: 
DTSTART:20250125T140000
DTEND:20250125T150000
LOCATION:Fischerhütte
ORGANIZER:MAILTO:ASV Heinsheim <webmaster@asv-heinsheim.de>
SUMMARY:Nachzüglertermin
END:VEVENT
END:VCALENDAR
