BEGIN:VCALENDAR
VERSION:2.0
PRODID:-//ASV Heinsheim//NONSGML kigkonsult.se iCalcreator 2.16.12//
METHOD:PUBLISH
X-MS-OLK-FORCEINSPECTOROPEN:TRUE
BEGIN:VEVENT
UID:20260424T075614CEST-5238BmxOiU@ASV Heinsheim
DTSTAMP:20260424T055614Z
DESCRIPTION: ACHTUNG im Jahresplan ist das falsche Datum gedruckt Nicht am 
 29.10. sondern am 29.09. ist gemeinsames Fischen
DTSTART:20240929T070000
DTEND:20240929T133000
ORGANIZER:MAILTO:ASV Heinsheim <webmaster@asv-heinsheim.de>
SUMMARY:gemeinsames Fischen am Römersee
END:VEVENT
END:VCALENDAR
