BEGIN:VCALENDAR
VERSION:2.0
PRODID:-//ASV Heinsheim//NONSGML kigkonsult.se iCalcreator 2.16.12//
METHOD:PUBLISH
X-MS-OLK-FORCEINSPECTOROPEN:TRUE
BEGIN:VEVENT
UID:20260424T075816CEST-2955CVaKcl@ASV Heinsheim
DTSTAMP:20260424T055816Z
DESCRIPTION: 
DTSTART:20240915T070000
DTEND:20240915T133000
ORGANIZER:MAILTO:ASV Heinsheim <webmaster@asv-heinsheim.de>
SUMMARY:gemeinsames Hegefischen am Neckar
END:VEVENT
END:VCALENDAR
