BEGIN:VCALENDAR
VERSION:2.0
PRODID:-//ASV Heinsheim//NONSGML kigkonsult.se iCalcreator 2.16.12//
METHOD:PUBLISH
X-MS-OLK-FORCEINSPECTOROPEN:TRUE
BEGIN:VEVENT
UID:20260424T080017CEST-26759XiiuJ@ASV Heinsheim
DTSTAMP:20260424T060017Z
DESCRIPTION: Treffpunkt am Römersee
DTSTART:20240907T090000
DTEND:20240907T133000
ORGANIZER:MAILTO:ASV Heinsheim <webmaster@asv-heinsheim.de>
SUMMARY:Uferputzen an allen Seen
END:VEVENT
END:VCALENDAR
