BEGIN:VCALENDAR
VERSION:2.0
PRODID:-//ASV Heinsheim//NONSGML kigkonsult.se iCalcreator 2.16.12//
METHOD:PUBLISH
X-MS-OLK-FORCEINSPECTOROPEN:TRUE
BEGIN:VEVENT
UID:20260424T111251CEST-6449pxVD5u@ASV Heinsheim
DTSTAMP:20260424T091251Z
DESCRIPTION: BITTE UM BEACHTUNG\nTERMIN WURDE VOM 13.07.24 VORGEZOGEN
DTSTART:20240706T180000
DTEND:20240706T235900
ORGANIZER:MAILTO:ASV Heinsheim <webmaster@asv-heinsheim.de>
SUMMARY:Kameradschaftsnachtfischen am Neckar
END:VEVENT
END:VCALENDAR
