BEGIN:VCALENDAR
VERSION:2.0
PRODID:-//ASV Heinsheim//NONSGML kigkonsult.se iCalcreator 2.16.12//
METHOD:PUBLISH
X-MS-OLK-FORCEINSPECTOROPEN:TRUE
BEGIN:VEVENT
UID:20260424T125840CEST-0459igAcJa@ASV Heinsheim
DTSTAMP:20260424T105840Z
DESCRIPTION: Zelten am Römersee mit der Jugend
DTSTART:20240608T120000
DTEND:20240609T133000
ORGANIZER:MAILTO:ASV Heinsheim <webmaster@asv-heinsheim.de>
SUMMARY:Jugendzeltlager
END:VEVENT
END:VCALENDAR
