BEGIN:VCALENDAR
VERSION:2.0
PRODID:-//ASV Heinsheim//NONSGML kigkonsult.se iCalcreator 2.16.12//
METHOD:PUBLISH
X-MS-OLK-FORCEINSPECTOROPEN:TRUE
BEGIN:VEVENT
UID:20260424T175533CEST-5820VmdRio@ASV Heinsheim
DTSTAMP:20260424T155533Z
DESCRIPTION: 
DTSTART:20240428T070000
DTEND:20240428T133000
ORGANIZER:MAILTO:ASV Heinsheim <webmaster@asv-heinsheim.de>
SUMMARY:gemeinsames Fischen am Neckar
END:VEVENT
END:VCALENDAR
