BEGIN:VCALENDAR
VERSION:2.0
PRODID:-//ASV Heinsheim//NONSGML kigkonsult.se iCalcreator 2.16.12//
METHOD:PUBLISH
X-MS-OLK-FORCEINSPECTOROPEN:TRUE
BEGIN:VEVENT
UID:20260424T175540CEST-4688A5GLGS@ASV Heinsheim
DTSTAMP:20260424T155540Z
DESCRIPTION: 
DTSTART:20240407T070000
DTEND:20240407T133000
ORGANIZER:MAILTO:ASV Heinsheim <webmaster@asv-heinsheim.de>
SUMMARY:gemeinsames Fischen am Römersee
END:VEVENT
END:VCALENDAR
