BEGIN:VCALENDAR
VERSION:2.0
PRODID:-//ASV Heinsheim//NONSGML kigkonsult.se iCalcreator 2.16.12//
METHOD:PUBLISH
X-MS-OLK-FORCEINSPECTOROPEN:TRUE
BEGIN:VEVENT
UID:20260424T175017CEST-4644KxxRxX@ASV Heinsheim
DTSTAMP:20260424T155017Z
DESCRIPTION: 
DTSTART:20240329T100000
DTEND:20240329T170000
ORGANIZER:MAILTO:ASV Heinsheim <webmaster@asv-heinsheim.de>
SUMMARY:gemeinsames Fischessen Karfreitag
END:VEVENT
END:VCALENDAR
