BEGIN:VCALENDAR
VERSION:2.0
PRODID:-//ASV Heinsheim//NONSGML kigkonsult.se iCalcreator 2.16.12//
METHOD:PUBLISH
X-MS-OLK-FORCEINSPECTOROPEN:TRUE
BEGIN:VEVENT
UID:20260424T194304CEST-7149x3aEIT@ASV Heinsheim
DTSTAMP:20260424T174304Z
DESCRIPTION: Treffpunkt am Römersee
DTSTART:20240224T090000
DTEND:20240224T133000
ORGANIZER:MAILTO:ASV Heinsheim <webmaster@asv-heinsheim.de>
SUMMARY:Uferputzen an allen Seen
END:VEVENT
END:VCALENDAR
