BEGIN:VCALENDAR
VERSION:2.0
PRODID:-//ASV Heinsheim//NONSGML kigkonsult.se iCalcreator 2.16.12//
METHOD:PUBLISH
X-MS-OLK-FORCEINSPECTOROPEN:TRUE
BEGIN:VEVENT
UID:20260424T213019CEST-6780EPoPTC@ASV Heinsheim
DTSTAMP:20260424T193019Z
DESCRIPTION: 
DTSTART:20240120T140000
DTEND:20240120T150000
ORGANIZER:MAILTO:ASV Heinsheim <webmaster@asv-heinsheim.de>
SUMMARY:Nachzüglertermin
END:VEVENT
END:VCALENDAR
