BEGIN:VCALENDAR
VERSION:2.0
PRODID:-//ASV Heinsheim//NONSGML kigkonsult.se iCalcreator 2.16.12//
METHOD:PUBLISH
X-MS-OLK-FORCEINSPECTOROPEN:TRUE
BEGIN:VEVENT
UID:20260425T041646CEST-29410N3sA3@ASV Heinsheim
DTSTAMP:20260425T021646Z
DESCRIPTION: 
DTSTART:20230902T000000
DTEND:20230903T235900
LOCATION:Römersee
ORGANIZER:MAILTO:ASV Heinsheim <webmaster@asv-heinsheim.de>
SUMMARY:Jugendzeltlager
END:VEVENT
END:VCALENDAR
