BEGIN:VCALENDAR
VERSION:2.0
PRODID:-//ASV Heinsheim//NONSGML kigkonsult.se iCalcreator 2.16.12//
METHOD:PUBLISH
X-MS-OLK-FORCEINSPECTOROPEN:TRUE
BEGIN:VEVENT
UID:20260425T003823CEST-5799SHzIDm@ASV Heinsheim
DTSTAMP:20260424T223823Z
DESCRIPTION: 
DTSTART:20231001T070000
DTEND:20231104T133000
LOCATION:Fischerhütte
ORGANIZER:MAILTO:ASV Heinsheim <webmaster@asv-heinsheim.de>
SUMMARY:gemeinsames Hegefischen am Neckar
END:VEVENT
END:VCALENDAR
