BEGIN:VCALENDAR
VERSION:2.0
PRODID:-//ASV Heinsheim//NONSGML kigkonsult.se iCalcreator 2.16.12//
METHOD:PUBLISH
X-MS-OLK-FORCEINSPECTOROPEN:TRUE
BEGIN:VEVENT
UID:20260425T003730CEST-02159pBdbX@ASV Heinsheim
DTSTAMP:20260424T223730Z
DESCRIPTION: 
DTSTART:20231118T190000
DTEND:20231118T233000
LOCATION:Sportheim Heinsheim
ORGANIZER:MAILTO:ASV Heinsheim <webmaster@asv-heinsheim.de>
SUMMARY:Kameradschaftsabend
END:VEVENT
END:VCALENDAR
