BEGIN:VCALENDAR
VERSION:2.0
PRODID:-//ASV Heinsheim//NONSGML kigkonsult.se iCalcreator 2.16.12//
METHOD:PUBLISH
X-MS-OLK-FORCEINSPECTOROPEN:TRUE
BEGIN:VEVENT
UID:20260425T022421CEST-1255npL89v@ASV Heinsheim
DTSTAMP:20260425T002421Z
DESCRIPTION: In der Zeit vom 11.09. - 17.09. 2023 ist der See für ALLE zum 
 fischen gesperrt
DTSTART:20230917T070000
DTEND:20231001T133000
LOCATION:Römersee
ORGANIZER:MAILTO:ASV Heinsheim <webmaster@asv-heinsheim.de>
SUMMARY:gemeinsames Fischen am  Römersee
END:VEVENT
END:VCALENDAR
