BEGIN:VCALENDAR
VERSION:2.0
PRODID:-//ASV Heinsheim//NONSGML kigkonsult.se iCalcreator 2.16.12//
METHOD:PUBLISH
X-MS-OLK-FORCEINSPECTOROPEN:TRUE
BEGIN:VEVENT
UID:20260425T162220CEST-9585ez0dAJ@ASV Heinsheim
DTSTAMP:20260425T142220Z
DESCRIPTION: 
DTSTART:20230225T090000
DTEND:20230225T133000
LOCATION:Römersee
ORGANIZER:MAILTO:ASV Heinsheim <webmaster@asv-heinsheim.de>
SUMMARY:Uferputzaktion aller Seen
END:VEVENT
END:VCALENDAR
