BEGIN:VCALENDAR
VERSION:2.0
PRODID:-//ASV Heinsheim//NONSGML kigkonsult.se iCalcreator 2.16.12//
METHOD:PUBLISH
X-MS-OLK-FORCEINSPECTOROPEN:TRUE
BEGIN:VEVENT
UID:20260425T173738CEST-8615XXc4VL@ASV Heinsheim
DTSTAMP:20260425T153738Z
DESCRIPTION: 
DTSTART:20230114T140000
DTEND:20230114T150000
LOCATION:Fischerhütte
ORGANIZER:MAILTO:ASV Heinsheim <webmaster@asv-heinsheim.de>
SUMMARY:Angelkartenverkauf für Nachzügler
END:VEVENT
END:VCALENDAR
