BEGIN:VCALENDAR
VERSION:2.0
PRODID:-//ASV Heinsheim//NONSGML kigkonsult.se iCalcreator 2.16.12//
METHOD:PUBLISH
X-MS-OLK-FORCEINSPECTOROPEN:TRUE
BEGIN:VEVENT
UID:20260425T192331CEST-8922E7DVAi@ASV Heinsheim
DTSTAMP:20260425T172331Z
DESCRIPTION: 
DTSTART:20221210T090000
DTEND:20221210T133000
ORGANIZER:MAILTO:ASV Heinsheim <webmaster@asv-heinsheim.de>
SUMMARY:Uferputzen an allen Seen
END:VEVENT
END:VCALENDAR
