BEGIN:VCALENDAR
VERSION:2.0
PRODID:-//ASV Heinsheim//NONSGML kigkonsult.se iCalcreator 2.16.12//
METHOD:PUBLISH
X-MS-OLK-FORCEINSPECTOROPEN:TRUE
BEGIN:VEVENT
UID:20260425T210115CEST-4635i9ht1v@ASV Heinsheim
DTSTAMP:20260425T190115Z
DESCRIPTION: Ort wird noch bekannt gegeben
DTSTART:20221112T190000
DTEND:20221112T233000
ORGANIZER:MAILTO:ASV Heinsheim <webmaster@asv-heinsheim.de>
SUMMARY:Kameradschaftsabend
END:VEVENT
END:VCALENDAR
