BEGIN:VCALENDAR
VERSION:2.0
PRODID:-//ASV Heinsheim//NONSGML kigkonsult.se iCalcreator 2.16.12//
METHOD:PUBLISH
X-MS-OLK-FORCEINSPECTOROPEN:TRUE
BEGIN:VEVENT
UID:20260425T234700CEST-811059ocno@ASV Heinsheim
DTSTAMP:20260425T214700Z
DESCRIPTION: 
DTSTART:20220925T070000
DTEND:20220925T133000
LOCATION:Fischerhütte
ORGANIZER:MAILTO:ASV Heinsheim <webmaster@asv-heinsheim.de>
SUMMARY:gemeinsames Fischen am Neckar
END:VEVENT
END:VCALENDAR
