BEGIN:VCALENDAR
VERSION:2.0
PRODID:-//ASV Heinsheim//NONSGML kigkonsult.se iCalcreator 2.16.12//
METHOD:PUBLISH
X-MS-OLK-FORCEINSPECTOROPEN:TRUE
BEGIN:VEVENT
UID:20260425T234654CEST-2068uEEAd6@ASV Heinsheim
DTSTAMP:20260425T214654Z
DESCRIPTION: 
DTSTART:20220918T070000
DTEND:20220918T120000
LOCATION:Römersee
ORGANIZER:MAILTO:ASV Heinsheim <webmaster@asv-heinsheim.de>
SUMMARY:gemeinsames Fischen am Römersee
END:VEVENT
END:VCALENDAR
