BEGIN:VCALENDAR
VERSION:2.0
PRODID:-//ASV Heinsheim//NONSGML kigkonsult.se iCalcreator 2.16.12//
METHOD:PUBLISH
X-MS-OLK-FORCEINSPECTOROPEN:TRUE
BEGIN:VEVENT
UID:20260425T234653CEST-9136izeFVL@ASV Heinsheim
DTSTAMP:20260425T214653Z
DESCRIPTION: 
DTSTART:20220910T090000
DTEND:20220910T133000
ORGANIZER:MAILTO:ASV Heinsheim <webmaster@asv-heinsheim.de>
SUMMARY:Uferputzen an allen Seen
END:VEVENT
END:VCALENDAR
